Package: cydar Version: 1.31.0 Command: /home/biocbuild/bbs-3.21-bioc/R/bin/R CMD build --keep-empty-dirs --no-resave-data cydar StartedAt: 2025-02-19 16:51:23 -0500 (Wed, 19 Feb 2025) EndedAt: 2025-02-19 16:52:32 -0500 (Wed, 19 Feb 2025) EllapsedTime: 69.1 seconds RetCode: 0 Status: OK PackageFile: cydar_1.31.0.tar.gz PackageFileSize: 493.1 KiB