Package: cydar Version: 1.31.0 Command: /Library/Frameworks/R.framework/Resources/bin/R CMD check --install=check:cydar.install-out.txt --library=/Library/Frameworks/R.framework/Resources/library --no-vignettes --timings cydar_1.31.0.tar.gz StartedAt: 2025-02-19 19:48:25 -0500 (Wed, 19 Feb 2025) EndedAt: 2025-02-19 19:52:45 -0500 (Wed, 19 Feb 2025) EllapsedTime: 260.4 seconds RetCode: 0 Status: OK CheckDir: cydar.Rcheck Warnings: 0