Package: cydar Version: 1.31.0 Command: rm -rf cydar.buildbin-libdir && mkdir cydar.buildbin-libdir && /Users/biocbuild/BBS/utils/build-universal.sh cydar_1.31.0.tar.gz /Library/Frameworks/R.framework/Resources/bin/R cydar.buildbin-libdir StartedAt: 2025-02-20 00:27:43 -0500 (Thu, 20 Feb 2025) EndedAt: 2025-02-20 00:28:47 -0500 (Thu, 20 Feb 2025) EllapsedTime: 63.8 seconds RetCode: 0 Status: OK PackageFile: cydar_1.31.0.tgz PackageFileSize: 1.46 MiB