Package: cycle Version: 1.61.0 Command: chmod a+r cycle -R && E:\biocbuild\bbs-3.21-bioc\R\bin\R.exe CMD build --keep-empty-dirs --no-resave-data cycle StartedAt: 2025-02-20 18:10:46 -0500 (Thu, 20 Feb 2025) EndedAt: 2025-02-20 18:11:15 -0500 (Thu, 20 Feb 2025) EllapsedTime: 28.9 seconds RetCode: 0 Status: OK PackageFile: cycle_1.61.0.tar.gz PackageFileSize: 103.9 KiB