Package: cycle Version: 1.61.0 Command: /home/biocbuild/bbs-3.21-bioc/R/bin/R CMD INSTALL cycle StartedAt: 2025-02-20 15:23:27 -0500 (Thu, 20 Feb 2025) EndedAt: 2025-02-20 15:23:30 -0500 (Thu, 20 Feb 2025) EllapsedTime: 3.5 seconds RetCode: 0 Status: OK