Package: cycle Version: 1.61.0 Command: /home/biocbuild/bbs-3.21-bioc/R/bin/R CMD build --keep-empty-dirs --no-resave-data cycle StartedAt: 2025-02-20 17:06:50 -0500 (Thu, 20 Feb 2025) EndedAt: 2025-02-20 17:07:14 -0500 (Thu, 20 Feb 2025) EllapsedTime: 24.0 seconds RetCode: 0 Status: OK PackageFile: cycle_1.61.0.tar.gz PackageFileSize: 247.5 KiB