Package: cycle Version: 1.61.0 Command: /Library/Frameworks/R.framework/Resources/bin/R CMD build --keep-empty-dirs --no-resave-data cycle StartedAt: 2025-02-20 16:22:47 -0500 (Thu, 20 Feb 2025) EndedAt: 2025-02-20 16:23:19 -0500 (Thu, 20 Feb 2025) EllapsedTime: 31.9 seconds RetCode: 0 Status: OK PackageFile: cycle_1.61.0.tar.gz PackageFileSize: 247 KiB