Package: cycle Version: 1.61.0 Command: rm -rf cycle.buildbin-libdir && mkdir cycle.buildbin-libdir && /Users/biocbuild/BBS/utils/build-universal.sh cycle_1.61.0.tar.gz /Library/Frameworks/R.framework/Resources/bin/R cycle.buildbin-libdir StartedAt: 2025-02-21 00:26:25 -0500 (Fri, 21 Feb 2025) EndedAt: 2025-02-21 00:26:33 -0500 (Fri, 21 Feb 2025) EllapsedTime: 8.2 seconds RetCode: 0 Status: OK PackageFile: cycle_1.61.0.tgz PackageFileSize: 266.6 KiB