Package: cycle Version: 1.61.0 Command: /Library/Frameworks/R.framework/Resources/bin/R CMD check --install=check:cycle.install-out.txt --library=/Library/Frameworks/R.framework/Resources/library --no-vignettes --timings cycle_1.61.0.tar.gz StartedAt: 2025-02-21 19:24:36 -0500 (Fri, 21 Feb 2025) EndedAt: 2025-02-21 19:25:00 -0500 (Fri, 21 Feb 2025) EllapsedTime: 24.3 seconds RetCode: 0 Status: OK CheckDir: cycle.Rcheck Warnings: 0