Package: customProDB Version: 1.47.0 Command: E:\biocbuild\bbs-3.21-bioc\R\bin\R.exe CMD INSTALL customProDB StartedAt: 2025-02-18 16:32:05 -0500 (Tue, 18 Feb 2025) EndedAt: 2025-02-18 16:33:04 -0500 (Tue, 18 Feb 2025) EllapsedTime: 58.6 seconds RetCode: 0 Status: OK