Package: customProDB Version: 1.47.0 Command: chmod a+r customProDB -R && E:\biocbuild\bbs-3.21-bioc\R\bin\R.exe CMD build --keep-empty-dirs --no-resave-data customProDB StartedAt: 2025-02-18 18:07:01 -0500 (Tue, 18 Feb 2025) EndedAt: 2025-02-18 18:08:34 -0500 (Tue, 18 Feb 2025) EllapsedTime: 93.0 seconds RetCode: 0 Status: OK PackageFile: customProDB_1.47.0.tar.gz PackageFileSize: 541.3 KiB