Package: customProDB Version: 1.47.0 Command: /home/biocbuild/bbs-3.21-bioc/R/bin/R CMD INSTALL customProDB StartedAt: 2025-02-19 15:39:13 -0500 (Wed, 19 Feb 2025) EndedAt: 2025-02-19 15:39:56 -0500 (Wed, 19 Feb 2025) EllapsedTime: 42.7 seconds RetCode: 0 Status: OK