Package: customProDB Version: 1.47.0 Command: /home/biocbuild/bbs-3.21-bioc/R/bin/R CMD check --install=check:customProDB.install-out.txt --library=/home/biocbuild/bbs-3.21-bioc/R/site-library --timings customProDB_1.47.0.tar.gz StartedAt: 2025-02-19 21:17:01 -0500 (Wed, 19 Feb 2025) EndedAt: 2025-02-19 21:22:25 -0500 (Wed, 19 Feb 2025) EllapsedTime: 324.4 seconds RetCode: 0 Status: WARNINGS CheckDir: customProDB.Rcheck Warnings: 1