Package: customProDB Version: 1.47.0 Command: /home/biocbuild/bbs-3.21-bioc/R/bin/R CMD build --keep-empty-dirs --no-resave-data customProDB StartedAt: 2025-02-19 16:51:06 -0500 (Wed, 19 Feb 2025) EndedAt: 2025-02-19 16:52:21 -0500 (Wed, 19 Feb 2025) EllapsedTime: 75.1 seconds RetCode: 0 Status: OK PackageFile: customProDB_1.47.0.tar.gz PackageFileSize: 540.5 KiB