Package: customProDB Version: 1.47.0 Command: /Library/Frameworks/R.framework/Resources/bin/R CMD build --keep-empty-dirs --no-resave-data customProDB StartedAt: 2025-02-18 16:22:06 -0500 (Tue, 18 Feb 2025) EndedAt: 2025-02-18 16:23:21 -0500 (Tue, 18 Feb 2025) EllapsedTime: 75.5 seconds RetCode: 0 Status: OK PackageFile: customProDB_1.47.0.tar.gz PackageFileSize: 540.5 KiB