Package: customProDB Version: 1.47.0 Command: /home/biocbuild/R/R/bin/R CMD check --install=check:customProDB.install-out.txt --library=/home/biocbuild/R/R/site-library --no-vignettes --timings customProDB_1.47.0.tar.gz StartedAt: 2025-01-28 09:38:32 -0000 (Tue, 28 Jan 2025) EndedAt: 2025-01-28 09:44:51 -0000 (Tue, 28 Jan 2025) EllapsedTime: 379.3 seconds RetCode: 1 Status: ERROR CheckDir: customProDB.Rcheck Warnings: NA