Package: customProDB Version: 1.47.0 Command: /Library/Frameworks/R.framework/Resources/bin/R CMD check --install=check:customProDB.install-out.txt --library=/Library/Frameworks/R.framework/Resources/library --no-vignettes --timings customProDB_1.47.0.tar.gz StartedAt: 2025-02-18 18:49:46 -0500 (Tue, 18 Feb 2025) EndedAt: 2025-02-18 18:52:28 -0500 (Tue, 18 Feb 2025) EllapsedTime: 161.8 seconds RetCode: 0 Status: WARNINGS CheckDir: customProDB.Rcheck Warnings: 1