Package: customCMPdb Version: 1.17.0 Command: E:\biocbuild\bbs-3.21-bioc\R\bin\R.exe CMD INSTALL customCMPdb StartedAt: 2025-02-20 16:50:29 -0500 (Thu, 20 Feb 2025) EndedAt: 2025-02-20 16:50:55 -0500 (Thu, 20 Feb 2025) EllapsedTime: 25.8 seconds RetCode: 0 Status: OK