Package: customCMPdb Version: 1.17.0 Command: /Library/Frameworks/R.framework/Resources/bin/R CMD build --keep-empty-dirs --no-resave-data customCMPdb StartedAt: 2025-02-20 16:02:16 -0500 (Thu, 20 Feb 2025) EndedAt: 2025-02-20 16:03:03 -0500 (Thu, 20 Feb 2025) EllapsedTime: 47.4 seconds RetCode: 0 Status: OK PackageFile: customCMPdb_1.17.0.tar.gz PackageFileSize: 694 KiB