Package: cummeRbund Version: 2.49.0 Command: /Library/Frameworks/R.framework/Resources/bin/R CMD check --install=check:cummeRbund.install-out.txt --library=/Library/Frameworks/R.framework/Resources/library --no-vignettes --timings cummeRbund_2.49.0.tar.gz StartedAt: 2025-02-20 18:46:26 -0500 (Thu, 20 Feb 2025) EndedAt: 2025-02-20 18:49:38 -0500 (Thu, 20 Feb 2025) EllapsedTime: 192.1 seconds RetCode: 0 Status: WARNINGS CheckDir: cummeRbund.Rcheck Warnings: 1