Package: cummeRbund Version: 2.49.0 Command: /Library/Frameworks/R.framework/Resources/bin/R CMD build --keep-empty-dirs --no-resave-data cummeRbund StartedAt: 2025-02-20 16:02:10 -0500 (Thu, 20 Feb 2025) EndedAt: 2025-02-20 16:02:55 -0500 (Thu, 20 Feb 2025) EllapsedTime: 45.4 seconds RetCode: 0 Status: OK PackageFile: cummeRbund_2.49.0.tar.gz PackageFileSize: 2.608 MiB