Package: ctsGE Version: 1.33.0 Command: E:\biocbuild\bbs-3.21-bioc\R\bin\R.exe CMD INSTALL ctsGE StartedAt: 2025-02-17 15:36:24 -0500 (Mon, 17 Feb 2025) EndedAt: 2025-02-17 15:36:35 -0500 (Mon, 17 Feb 2025) EllapsedTime: 11.0 seconds RetCode: 0 Status: OK