Package: ctsGE Version: 1.33.0 Command: /home/biocbuild/bbs-3.21-bioc/R/bin/R CMD INSTALL ctsGE StartedAt: 2025-02-17 15:08:37 -0500 (Mon, 17 Feb 2025) EndedAt: 2025-02-17 15:08:49 -0500 (Mon, 17 Feb 2025) EllapsedTime: 11.5 seconds RetCode: 0 Status: OK