Package: ctsGE Version: 1.33.0 Command: /Library/Frameworks/R.framework/Resources/bin/R CMD INSTALL ctsGE StartedAt: 2025-02-17 15:15:26 -0500 (Mon, 17 Feb 2025) EndedAt: 2025-02-17 15:15:29 -0500 (Mon, 17 Feb 2025) EllapsedTime: 2.7 seconds RetCode: 0 Status: OK