Package: ctsGE Version: 1.33.0 Command: /Library/Frameworks/R.framework/Resources/bin/R CMD build --keep-empty-dirs --no-resave-data ctsGE StartedAt: 2025-02-17 16:01:07 -0500 (Mon, 17 Feb 2025) EndedAt: 2025-02-17 16:01:16 -0500 (Mon, 17 Feb 2025) EllapsedTime: 9.1 seconds RetCode: 0 Status: OK PackageFile: ctsGE_1.33.0.tar.gz PackageFileSize: 1.132 MiB