Package: ctsGE Version: 1.33.0 Command: rm -rf ctsGE.buildbin-libdir && mkdir ctsGE.buildbin-libdir && /Users/biocbuild/BBS/utils/build-universal.sh ctsGE_1.33.0.tar.gz /Library/Frameworks/R.framework/Resources/bin/R ctsGE.buildbin-libdir StartedAt: 2025-02-17 22:14:08 -0500 (Mon, 17 Feb 2025) EndedAt: 2025-02-17 22:14:12 -0500 (Mon, 17 Feb 2025) EllapsedTime: 4.1 seconds RetCode: 0 Status: OK PackageFile: ctsGE_1.33.0.tgz PackageFileSize: 1.169 MiB