Package: ctc Version: 1.81.0 Command: E:\biocbuild\bbs-3.21-bioc\R\bin\R.exe CMD check --no-multiarch --install=check:ctc.install-out.txt --library=E:\biocbuild\bbs-3.21-bioc\R\library --no-vignettes --timings ctc_1.81.0.tar.gz StartedAt: 2025-02-21 00:15:48 -0500 (Fri, 21 Feb 2025) EndedAt: 2025-02-21 00:16:20 -0500 (Fri, 21 Feb 2025) EllapsedTime: 31.4 seconds RetCode: 0 Status: OK CheckDir: ctc.Rcheck Warnings: 0