Package: ctc Version: 1.81.0 Command: chmod a+r ctc -R && E:\biocbuild\bbs-3.21-bioc\R\bin\R.exe CMD build --keep-empty-dirs --no-resave-data ctc StartedAt: 2025-02-20 18:09:53 -0500 (Thu, 20 Feb 2025) EndedAt: 2025-02-20 18:10:06 -0500 (Thu, 20 Feb 2025) EllapsedTime: 13.0 seconds RetCode: 0 Status: OK PackageFile: ctc_1.81.0.tar.gz PackageFileSize: 89.72 KiB