Package: ctc Version: 1.81.0 Command: /Library/Frameworks/R.framework/Resources/bin/R CMD build --keep-empty-dirs --no-resave-data ctc StartedAt: 2025-02-20 16:01:48 -0500 (Thu, 20 Feb 2025) EndedAt: 2025-02-20 16:01:52 -0500 (Thu, 20 Feb 2025) EllapsedTime: 4.0 seconds RetCode: 0 Status: OK PackageFile: ctc_1.81.0.tar.gz PackageFileSize: 270.1 KiB