Package: csdR Version: 1.13.3 Command: E:\biocbuild\bbs-3.21-bioc\R\bin\R.exe CMD check --no-multiarch --install=check:csdR.install-out.txt --library=E:\biocbuild\bbs-3.21-bioc\R\library --no-vignettes --timings csdR_1.13.3.tar.gz StartedAt: 2025-02-21 00:15:08 -0500 (Fri, 21 Feb 2025) EndedAt: 2025-02-21 00:19:56 -0500 (Fri, 21 Feb 2025) EllapsedTime: 288.1 seconds RetCode: 1 Status: ERROR CheckDir: csdR.Rcheck Warnings: NA