Package: csdR Version: 1.13.3 Command: rm -rf csdR.buildbin-libdir && mkdir csdR.buildbin-libdir && E:\biocbuild\bbs-3.21-bioc\R\bin\R.exe CMD INSTALL --build --library=csdR.buildbin-libdir csdR_1.13.3.tar.gz StartedAt: 2025-02-21 07:53:00 -0500 (Fri, 21 Feb 2025) EndedAt: 2025-02-21 07:53:38 -0500 (Fri, 21 Feb 2025) EllapsedTime: 38.1 seconds RetCode: 0 Status: OK PackageFile: csdR_1.13.3.zip PackageFileSize: 1.778 MiB