Package: csdR Version: 1.13.3 Command: /home/biocbuild/bbs-3.21-bioc/R/bin/R CMD INSTALL csdR StartedAt: 2025-02-20 15:57:33 -0500 (Thu, 20 Feb 2025) EndedAt: 2025-02-20 15:58:02 -0500 (Thu, 20 Feb 2025) EllapsedTime: 29.2 seconds RetCode: 0 Status: OK