Package: csdR Version: 1.13.3 Command: /home/biocbuild/bbs-3.21-bioc/R/bin/R CMD check --install=check:csdR.install-out.txt --library=/home/biocbuild/bbs-3.21-bioc/R/site-library --timings csdR_1.13.3.tar.gz StartedAt: 2025-02-20 21:08:42 -0500 (Thu, 20 Feb 2025) EndedAt: 2025-02-20 21:13:22 -0500 (Thu, 20 Feb 2025) EllapsedTime: 280.3 seconds RetCode: 0 Status: OK CheckDir: csdR.Rcheck Warnings: 0