Package: csdR Version: 1.13.3 Command: /home/biocbuild/bbs-3.21-bioc/R/bin/R CMD build --keep-empty-dirs --no-resave-data csdR StartedAt: 2025-02-20 17:05:16 -0500 (Thu, 20 Feb 2025) EndedAt: 2025-02-20 17:06:04 -0500 (Thu, 20 Feb 2025) EllapsedTime: 48.1 seconds RetCode: 0 Status: OK PackageFile: csdR_1.13.3.tar.gz PackageFileSize: 1.442 MiB