Package: csdR Version: 1.13.3 Command: /Library/Frameworks/R.framework/Resources/bin/R CMD check --install=check:csdR.install-out.txt --library=/Library/Frameworks/R.framework/Resources/library --no-vignettes --timings csdR_1.13.3.tar.gz StartedAt: 2025-02-20 19:46:06 -0500 (Thu, 20 Feb 2025) EndedAt: 2025-02-20 19:50:38 -0500 (Thu, 20 Feb 2025) EllapsedTime: 272.2 seconds RetCode: 0 Status: OK CheckDir: csdR.Rcheck Warnings: 0