Package: csdR Version: 1.13.3 Command: /Library/Frameworks/R.framework/Resources/bin/R CMD build --keep-empty-dirs --no-resave-data csdR StartedAt: 2025-02-20 16:01:40 -0500 (Thu, 20 Feb 2025) EndedAt: 2025-02-20 16:02:02 -0500 (Thu, 20 Feb 2025) EllapsedTime: 21.3 seconds RetCode: 0 Status: OK PackageFile: csdR_1.13.3.tar.gz PackageFileSize: 1.461 MiB