Package: csaw Version: 1.41.2 Command: /Library/Frameworks/R.framework/Resources/bin/R CMD build --keep-empty-dirs --no-resave-data csaw StartedAt: 2025-02-20 16:01:40 -0500 (Thu, 20 Feb 2025) EndedAt: 2025-02-20 16:02:10 -0500 (Thu, 20 Feb 2025) EllapsedTime: 29.4 seconds RetCode: 0 Status: OK PackageFile: csaw_1.41.2.tar.gz PackageFileSize: 389.2 KiB