Package: crossmeta Version: 1.33.1 Command: /home/biocbuild/bbs-3.21-bioc/R/bin/R CMD INSTALL crossmeta StartedAt: 2025-02-19 15:32:38 -0500 (Wed, 19 Feb 2025) EndedAt: 2025-02-19 15:32:39 -0500 (Wed, 19 Feb 2025) EllapsedTime: 1.1 seconds RetCode: 1 Status: ERROR