Package: crossmeta Version: 1.33.1 Command: /Library/Frameworks/R.framework/Resources/bin/R CMD INSTALL crossmeta StartedAt: 2025-02-19 15:20:45 -0500 (Wed, 19 Feb 2025) EndedAt: 2025-02-19 15:20:46 -0500 (Wed, 19 Feb 2025) EllapsedTime: 1.0 seconds RetCode: 1 Status: ERROR