Package: crlmm Version: 1.65.0 Command: chmod a+r crlmm -R && E:\biocbuild\bbs-3.21-bioc\R\bin\R.exe CMD build --keep-empty-dirs --no-resave-data crlmm StartedAt: 2025-02-17 18:01:46 -0500 (Mon, 17 Feb 2025) EndedAt: 2025-02-17 18:01:53 -0500 (Mon, 17 Feb 2025) EllapsedTime: 6.8 seconds RetCode: 1 Status: ERROR PackageFile: None PackageFileSize: NA