Package: crlmm Version: 1.65.0 Command: /Library/Frameworks/R.framework/Resources/bin/R CMD build --keep-empty-dirs --no-resave-data crlmm StartedAt: 2025-02-17 16:21:23 -0500 (Mon, 17 Feb 2025) EndedAt: 2025-02-17 16:21:26 -0500 (Mon, 17 Feb 2025) EllapsedTime: 2.3 seconds RetCode: 1 Status: ERROR PackageFile: None PackageFileSize: NA