Package: crlmm Version: 1.65.0 Command: /Library/Frameworks/R.framework/Resources/bin/R CMD INSTALL crlmm StartedAt: 2025-02-17 15:10:10 -0500 (Mon, 17 Feb 2025) EndedAt: 2025-02-17 15:10:11 -0500 (Mon, 17 Feb 2025) EllapsedTime: 0.6 seconds RetCode: 1 Status: ERROR