Package: crisprViz Version: 1.9.0 Command: E:\biocbuild\bbs-3.21-bioc\R\bin\R.exe CMD INSTALL crisprViz StartedAt: 2025-02-19 16:20:33 -0500 (Wed, 19 Feb 2025) EndedAt: 2025-02-19 16:21:34 -0500 (Wed, 19 Feb 2025) EllapsedTime: 60.9 seconds RetCode: 0 Status: OK