Package: crisprViz Version: 1.9.0 Command: E:\biocbuild\bbs-3.21-bioc\R\bin\R.exe CMD check --no-multiarch --install=check:crisprViz.install-out.txt --library=E:\biocbuild\bbs-3.21-bioc\R\library --no-vignettes --timings crisprViz_1.9.0.tar.gz StartedAt: 2025-02-21 00:13:28 -0500 (Fri, 21 Feb 2025) EndedAt: 2025-02-21 00:21:26 -0500 (Fri, 21 Feb 2025) EllapsedTime: 477.8 seconds RetCode: 0 Status: OK CheckDir: crisprViz.Rcheck Warnings: 0