Package: crisprViz Version: 1.9.0 Command: /Library/Frameworks/R.framework/Resources/bin/R CMD INSTALL crisprViz StartedAt: 2025-02-18 15:17:06 -0500 (Tue, 18 Feb 2025) EndedAt: 2025-02-18 15:17:26 -0500 (Tue, 18 Feb 2025) EllapsedTime: 20.9 seconds RetCode: 0 Status: OK