Package: crisprVerse Version: 1.9.0 Command: /Library/Frameworks/R.framework/Resources/bin/R CMD build --keep-empty-dirs --no-resave-data crisprVerse StartedAt: 2025-02-19 16:22:04 -0500 (Wed, 19 Feb 2025) EndedAt: 2025-02-19 16:23:12 -0500 (Wed, 19 Feb 2025) EllapsedTime: 68.4 seconds RetCode: 0 Status: OK PackageFile: crisprVerse_1.9.0.tar.gz PackageFileSize: 295.9 KiB