Package: crisprShiny Version: 1.3.0 Command: rm -rf crisprShiny.buildbin-libdir && mkdir crisprShiny.buildbin-libdir && E:\biocbuild\bbs-3.21-bioc\R\bin\R.exe CMD INSTALL --build --library=crisprShiny.buildbin-libdir crisprShiny_1.3.0.tar.gz StartedAt: 2025-02-21 07:52:42 -0500 (Fri, 21 Feb 2025) EndedAt: 2025-02-21 07:54:00 -0500 (Fri, 21 Feb 2025) EllapsedTime: 77.6 seconds RetCode: 0 Status: OK PackageFile: crisprShiny_1.3.0.zip PackageFileSize: 1.296 MiB