Package: crisprShiny Version: 1.3.0 Command: /home/biocbuild/bbs-3.21-bioc/R/bin/R CMD build --keep-empty-dirs --no-resave-data crisprShiny StartedAt: 2025-02-20 17:04:52 -0500 (Thu, 20 Feb 2025) EndedAt: 2025-02-20 17:05:46 -0500 (Thu, 20 Feb 2025) EllapsedTime: 54.1 seconds RetCode: 0 Status: OK PackageFile: crisprShiny_1.3.0.tar.gz PackageFileSize: 1.581 MiB