Package: crisprShiny Version: 1.3.0 Command: /Library/Frameworks/R.framework/Resources/bin/R CMD check --install=check:crisprShiny.install-out.txt --library=/Library/Frameworks/R.framework/Resources/library --no-vignettes --timings crisprShiny_1.3.0.tar.gz StartedAt: 2025-02-19 19:45:21 -0500 (Wed, 19 Feb 2025) EndedAt: 2025-02-19 19:53:01 -0500 (Wed, 19 Feb 2025) EllapsedTime: 460.2 seconds RetCode: 0 Status: OK CheckDir: crisprShiny.Rcheck Warnings: 0