Package: crisprDesign Version: 1.9.0 Command: rm -rf crisprDesign.buildbin-libdir && mkdir crisprDesign.buildbin-libdir && E:\biocbuild\bbs-3.21-bioc\R\bin\R.exe CMD INSTALL --build --library=crisprDesign.buildbin-libdir crisprDesign_1.9.0.tar.gz StartedAt: 2025-02-19 07:13:46 -0500 (Wed, 19 Feb 2025) EndedAt: 2025-02-19 07:17:54 -0500 (Wed, 19 Feb 2025) EllapsedTime: 247.8 seconds RetCode: 0 Status: OK PackageFile: crisprDesign_1.9.0.zip PackageFileSize: 3.604 MiB